BEGIN:VCALENDAR
VERSION:2.0
PRODID:-//Karaté Shorin-Ryu - ECPv6.15.20//NONSGML v1.0//EN
CALSCALE:GREGORIAN
METHOD:PUBLISH
X-ORIGINAL-URL:https://www.shorinryumascouche.com
X-WR-CALDESC:Évènements pour Karaté Shorin-Ryu
REFRESH-INTERVAL;VALUE=DURATION:PT1H
X-Robots-Tag:noindex
X-PUBLISHED-TTL:PT1H
BEGIN:VTIMEZONE
TZID:America/New_York
BEGIN:DAYLIGHT
TZOFFSETFROM:-0500
TZOFFSETTO:-0400
TZNAME:EDT
DTSTART:20250309T070000
END:DAYLIGHT
BEGIN:STANDARD
TZOFFSETFROM:-0400
TZOFFSETTO:-0500
TZNAME:EST
DTSTART:20251102T060000
END:STANDARD
BEGIN:DAYLIGHT
TZOFFSETFROM:-0500
TZOFFSETTO:-0400
TZNAME:EDT
DTSTART:20260308T070000
END:DAYLIGHT
BEGIN:STANDARD
TZOFFSETFROM:-0400
TZOFFSETTO:-0500
TZNAME:EST
DTSTART:20261101T060000
END:STANDARD
BEGIN:DAYLIGHT
TZOFFSETFROM:-0500
TZOFFSETTO:-0400
TZNAME:EDT
DTSTART:20270314T070000
END:DAYLIGHT
BEGIN:STANDARD
TZOFFSETFROM:-0400
TZOFFSETTO:-0500
TZNAME:EST
DTSTART:20271107T060000
END:STANDARD
END:VTIMEZONE
BEGIN:VEVENT
DTSTART;TZID=America/New_York:20260330T183000
DTEND;TZID=America/New_York:20260330T185000
DTSTAMP:20260424T113723
CREATED:20260317T182021Z
LAST-MODIFIED:20260317T182021Z
UID:5397-1774895400-1774896600@www.shorinryumascouche.com
SUMMARY:Passage des ceintures jaunes
DESCRIPTION:Les ceintures blanches ayant débuté à la session d’automne 2025 ou au début de la session d’hiver 2026 seront invités à la gradation de la ceinture jaune. \nQuand : Lundi le 30 mars 2026 \nLieu : École le Rucher \nHeure : 18 h 30 à 18 h 50 (environ) \nSuivant la gradation\, les élèves pourront assister au cours régulier jusqu’à 19 h 30. \nPartager\n				Envoyer un lien par e-mail à un ami(ouvre dans une nouvelle fenêtre)\n				E-mail\n			\n				Partager sur Facebook(ouvre dans une nouvelle fenêtre)\n				Facebook\n			\n				Partager sur X(ouvre dans une nouvelle fenêtre)\n				X\n			\n				Imprimer(ouvre dans une nouvelle fenêtre)\n				Imprimer
URL:https://www.shorinryumascouche.com/evenement/passage-des-ceintures-jaunes/
END:VEVENT
END:VCALENDAR