BEGIN:VCALENDAR
VERSION:2.0
PRODID:-//Karaté Shorin-Ryu - ECPv6.15.20//NONSGML v1.0//EN
CALSCALE:GREGORIAN
METHOD:PUBLISH
X-WR-CALNAME:Karaté Shorin-Ryu
X-ORIGINAL-URL:https://www.shorinryumascouche.com
X-WR-CALDESC:Évènements pour Karaté Shorin-Ryu
REFRESH-INTERVAL;VALUE=DURATION:PT1H
X-Robots-Tag:noindex
X-PUBLISHED-TTL:PT1H
BEGIN:VTIMEZONE
TZID:America/New_York
BEGIN:DAYLIGHT
TZOFFSETFROM:-0500
TZOFFSETTO:-0400
TZNAME:EDT
DTSTART:20250309T070000
END:DAYLIGHT
BEGIN:STANDARD
TZOFFSETFROM:-0400
TZOFFSETTO:-0500
TZNAME:EST
DTSTART:20251102T060000
END:STANDARD
BEGIN:DAYLIGHT
TZOFFSETFROM:-0500
TZOFFSETTO:-0400
TZNAME:EDT
DTSTART:20260308T070000
END:DAYLIGHT
BEGIN:STANDARD
TZOFFSETFROM:-0400
TZOFFSETTO:-0500
TZNAME:EST
DTSTART:20261101T060000
END:STANDARD
BEGIN:DAYLIGHT
TZOFFSETFROM:-0500
TZOFFSETTO:-0400
TZNAME:EDT
DTSTART:20270314T070000
END:DAYLIGHT
BEGIN:STANDARD
TZOFFSETFROM:-0400
TZOFFSETTO:-0500
TZNAME:EST
DTSTART:20271107T060000
END:STANDARD
END:VTIMEZONE
BEGIN:VEVENT
DTSTART;TZID=America/New_York:20260401T193000
DTEND;TZID=America/New_York:20260620T203000
DTSTAMP:20260424T071416
CREATED:20260111T220125Z
LAST-MODIFIED:20260303T194542Z
UID:5341-1775071800-1781987400@www.shorinryumascouche.com
SUMMARY:Fin de la session d'hiver et passage des ceintures noires
DESCRIPTION:Fin de la session d’hiver 2026 pour tous. \nDémonstration de 19 h 30 à 20 h 30 des ceintures brunes seulement pour ceux qui ont déjà tenté le passage de la ceinture noire japonaise en décembre 2025. . \nCours régulier de 18 h 30 à 19 h 30 pour tous. \nPartager\n				Envoyer un lien par e-mail à un ami(ouvre dans une nouvelle fenêtre)\n				E-mail\n			\n				Partager sur Facebook(ouvre dans une nouvelle fenêtre)\n				Facebook\n			\n				Partager sur X(ouvre dans une nouvelle fenêtre)\n				X\n			\n				Imprimer(ouvre dans une nouvelle fenêtre)\n				Imprimer
URL:https://www.shorinryumascouche.com/evenement/fin-de-la-session-dhiver-et-passage-des-ceintures-noires/
LOCATION:École Le Rucher\, Mascouche
END:VEVENT
BEGIN:VEVENT
DTSTART;TZID=America/New_York:20260424T190000
DTEND;TZID=America/New_York:20260424T200000
DTSTAMP:20260424T071416
CREATED:20260111T205707Z
LAST-MODIFIED:20260111T205707Z
UID:5323-1777057200-1777060800@www.shorinryumascouche.com
SUMMARY:Entraînement libre - Boisbriand
DESCRIPTION:Il y aura des entraînements libres au dojo de Boisbriand (École Gabrielle-Roy). \nVous êtes invités à y assister pour pratiquer vos katas\, vos armes ou pour simplement vous délier les jambes. \nOuvert à tous \nAura lieu les vendredis suivants de 19 h à 20 h :  \n16-23-30 janvier 2026 \n6-20-27 février 2026 \n13-20-27 mars 2026 \n10-17-24 avril 2026 \nPartager\n				Envoyer un lien par e-mail à un ami(ouvre dans une nouvelle fenêtre)\n				E-mail\n			\n				Partager sur Facebook(ouvre dans une nouvelle fenêtre)\n				Facebook\n			\n				Partager sur X(ouvre dans une nouvelle fenêtre)\n				X\n			\n				Imprimer(ouvre dans une nouvelle fenêtre)\n				Imprimer
URL:https://www.shorinryumascouche.com/evenement/entrainement-libre-boisbriand-8/
LOCATION:École Gabrielle-Roy\, 500 rue Marie C. Daveluy\, boisbriand\, Québec\, J7G 3G7
END:VEVENT
BEGIN:VEVENT
DTSTART;TZID=America/New_York:20260509T090000
DTEND;TZID=America/New_York:20260509T120000
DTSTAMP:20260424T071416
CREATED:20260111T215928Z
LAST-MODIFIED:20260111T215928Z
UID:5339-1778317200-1778328000@www.shorinryumascouche.com
SUMMARY:Passage des grades
DESCRIPTION:Passage des ceintures oranges-vertes à ceintures noires et dan de 9 h à environ midi. \nPour tous les éléves étant éligibles et qui auront reçu le laisser-passer quelques semaines auparavant. \nPartager\n				Envoyer un lien par e-mail à un ami(ouvre dans une nouvelle fenêtre)\n				E-mail\n			\n				Partager sur Facebook(ouvre dans une nouvelle fenêtre)\n				Facebook\n			\n				Partager sur X(ouvre dans une nouvelle fenêtre)\n				X\n			\n				Imprimer(ouvre dans une nouvelle fenêtre)\n				Imprimer
URL:https://www.shorinryumascouche.com/evenement/passage-des-grades/
LOCATION:École Le Rucher\, Mascouche
END:VEVENT
BEGIN:VEVENT
DTSTART;TZID=America/New_York:20260511T183000
DTEND;TZID=America/New_York:20260511T200000
DTSTAMP:20260424T071416
CREATED:20260111T220415Z
LAST-MODIFIED:20260111T220415Z
UID:5343-1778524200-1778529600@www.shorinryumascouche.com
SUMMARY:Passage des ceintures jaunes\, jaunes-oranges et oranges
DESCRIPTION:Passage de ceintures pour les blanches actuelles qui gradueront pour la ceinture jaune. \nLe passage est également pour les ceintures jaunes et jaunes-oranges qui auront reçu une invitation. \nLa graduation se déroulera de 18 h 30 à environ 20 h. \nLes spectacteurs sont les bienvenues. \nPartager\n				Envoyer un lien par e-mail à un ami(ouvre dans une nouvelle fenêtre)\n				E-mail\n			\n				Partager sur Facebook(ouvre dans une nouvelle fenêtre)\n				Facebook\n			\n				Partager sur X(ouvre dans une nouvelle fenêtre)\n				X\n			\n				Imprimer(ouvre dans une nouvelle fenêtre)\n				Imprimer
URL:https://www.shorinryumascouche.com/evenement/passage-des-ceintures-jaunes-jaunes-oranges-et-oranges-3/
LOCATION:École Le Rucher\, Mascouche
END:VEVENT
BEGIN:VEVENT
DTSTART;VALUE=DATE:20260518
DTEND;VALUE=DATE:20260519
DTSTAMP:20260424T071416
CREATED:20260111T223944Z
LAST-MODIFIED:20260111T223944Z
UID:5360-1779062400-1779148799@www.shorinryumascouche.com
SUMMARY:Cours annulés : congé férié
DESCRIPTION:Tous les cours sont annulés en raison du congé férié. \nPartager\n				Envoyer un lien par e-mail à un ami(ouvre dans une nouvelle fenêtre)\n				E-mail\n			\n				Partager sur Facebook(ouvre dans une nouvelle fenêtre)\n				Facebook\n			\n				Partager sur X(ouvre dans une nouvelle fenêtre)\n				X\n			\n				Imprimer(ouvre dans une nouvelle fenêtre)\n				Imprimer
URL:https://www.shorinryumascouche.com/evenement/cours-annules-conge-ferie-2/
END:VEVENT
BEGIN:VEVENT
DTSTART;TZID=America/New_York:20260525T183000
DTEND;TZID=America/New_York:20260525T204500
DTSTAMP:20260424T071416
CREATED:20260111T222953Z
LAST-MODIFIED:20260111T222953Z
UID:5356-1779733800-1779741900@www.shorinryumascouche.com
SUMMARY:Cours extérieur
DESCRIPTION:Encore cette année\, le populaire cours à l’extérieur aura lieu. \nL’horaire sera le même qu’à l’habitude (18 h 30 à 19 h 30 pour les parents/enfants et de 19 h 30 à 20h 45 pour les ados/adultes). \nNous vous attendons sur le terrain de soccer synthétique adjacent à l’entrée vers le cours de karaté. \nHabillement :  \n\nVêtements de sports confortable\nEspadrilles de sports\nChasse-moustique\nBouteille d’eau\n\nLe cours sera déplacé au mercredi 27 mai en cas de pluie ou de risque d’orage. \nPartager\n				Envoyer un lien par e-mail à un ami(ouvre dans une nouvelle fenêtre)\n				E-mail\n			\n				Partager sur Facebook(ouvre dans une nouvelle fenêtre)\n				Facebook\n			\n				Partager sur X(ouvre dans une nouvelle fenêtre)\n				X\n			\n				Imprimer(ouvre dans une nouvelle fenêtre)\n				Imprimer
URL:https://www.shorinryumascouche.com/evenement/cours-exterieur-3/
END:VEVENT
BEGIN:VEVENT
DTSTART;TZID=America/New_York:20260610T183000
DTEND;TZID=America/New_York:20260610T204500
DTSTAMP:20260424T071416
CREATED:20260111T220657Z
LAST-MODIFIED:20260111T220657Z
UID:5345-1781116200-1781124300@www.shorinryumascouche.com
SUMMARY:Fin des cours : Pour tous
DESCRIPTION:Dernier cours de l’année pour tous les groupes (sauf pour les petits-dragons – 8 juin). \nBon été à tous \n  \nOn se revoit en septembre 2026 pour entamer notre 12ieme saison avec vous \nPartager\n				Envoyer un lien par e-mail à un ami(ouvre dans une nouvelle fenêtre)\n				E-mail\n			\n				Partager sur Facebook(ouvre dans une nouvelle fenêtre)\n				Facebook\n			\n				Partager sur X(ouvre dans une nouvelle fenêtre)\n				X\n			\n				Imprimer(ouvre dans une nouvelle fenêtre)\n				Imprimer
URL:https://www.shorinryumascouche.com/evenement/fin-des-cours-pour-tous-2/
LOCATION:École Le Rucher\, Mascouche
END:VEVENT
END:VCALENDAR